BEGIN:VCALENDAR
VERSION:2.0
PRODID:-//7x12oa.sites.ecatholic.com//eCatholic//EN
X-WR-TIMEZONE:LocalTZ
BEGIN:VTIMEZONE
TZID:LocalTZ
X-LIC-LOCATION:LocalTZ
BEGIN:DAYLIGHT
TZOFFSETFROM:-0800
TZOFFSETTO:-0700
TZNAME:LocalTZ
DTSTART:19700308T020000
RRULE:FREQ=YEARLY;BYMONTH=3;BYDAY=2SU
END:DAYLIGHT
BEGIN:STANDARD
TZOFFSETFROM:-0700
TZOFFSETTO:-0800
TZNAME:LocalTZ
DTSTART:19701101T020000
RRULE:FREQ=YEARLY;BYMONTH=11;BYDAY=1SU
END:STANDARD
END:VTIMEZONE
BEGIN:VEVENT
UID:1425480@7x12oa.sites.ecatholic.com
DTSTAMP:20260419T122525Z
DTSTART:20260419T100000
DTEND:20260419T110000
RRULE:FREQ=WEEKLY;BYDAY=SU
SUMMARY:Sunday Mass - 10am
END:VEVENT
BEGIN:VEVENT
UID:1425482@7x12oa.sites.ecatholic.com
DTSTAMP:20260419T122525Z
DTSTART:20260419T080000
DTEND:20260419T090000
RRULE:FREQ=WEEKLY;BYDAY=SU
SUMMARY:Sunday Mass - 8am
END:VEVENT
BEGIN:VEVENT
UID:1425483@7x12oa.sites.ecatholic.com
DTSTAMP:20260419T122525Z
DTSTART:20260420T080000
DTEND:20260420T090000
RRULE:FREQ=WEEKLY;BYDAY=MO
SUMMARY:Daily Mass
END:VEVENT
BEGIN:VEVENT
UID:1425484@7x12oa.sites.ecatholic.com
DTSTAMP:20260419T122525Z
DTSTART:20260421T080000
DTEND:20260421T090000
RRULE:FREQ=WEEKLY;BYDAY=TU
SUMMARY:Daily Mass
END:VEVENT
BEGIN:VEVENT
UID:1425485@7x12oa.sites.ecatholic.com
DTSTAMP:20260419T122525Z
DTSTART:20260422T080000
DTEND:20260422T090000
RRULE:FREQ=WEEKLY;BYDAY=WE
SUMMARY:Daily Mass
END:VEVENT
BEGIN:VEVENT
UID:1425487@7x12oa.sites.ecatholic.com
DTSTAMP:20260419T122525Z
DTSTART:20260423T080000
DTEND:20260423T090000
RRULE:FREQ=WEEKLY;BYDAY=TH
SUMMARY:Daily Mass
END:VEVENT
BEGIN:VEVENT
UID:1425488@7x12oa.sites.ecatholic.com
DTSTAMP:20260419T122525Z
DTSTART:20260424T080000
DTEND:20260424T090000
RRULE:FREQ=WEEKLY;BYDAY=FR
SUMMARY:Daily Mass
END:VEVENT
BEGIN:VEVENT
UID:1425489@7x12oa.sites.ecatholic.com
DTSTAMP:20260419T122525Z
DTSTART:20260425T080000
DTEND:20260425T090000
RRULE:FREQ=WEEKLY;BYDAY=SA
SUMMARY:Daily Mass
END:VEVENT
END:VCALENDAR
